Package: systemPipeR Version: 2.14.2 Command: /home/biocbuild/bbs-3.21-bioc/R/bin/R CMD build --keep-empty-dirs --no-resave-data systemPipeR StartedAt: 2025-10-01 20:18:40 -0400 (Wed, 01 Oct 2025) EndedAt: 2025-10-01 20:19:57 -0400 (Wed, 01 Oct 2025) EllapsedTime: 77.1 seconds RetCode: 0 Status: OK PackageFile: systemPipeR_2.14.2.tar.gz PackageFileSize: 6.5 MiB