Package: systemPipeR Version: 2.14.2 Command: /Library/Frameworks/R.framework/Resources/bin/R CMD INSTALL systemPipeR StartedAt: 2025-09-25 16:31:24 -0400 (Thu, 25 Sep 2025) EndedAt: 2025-09-25 16:33:08 -0400 (Thu, 25 Sep 2025) EllapsedTime: 104.1 seconds RetCode: 0 Status: OK