Package: systemPipeR Version: 2.14.2 Command: rm -rf systemPipeR.buildbin-libdir && mkdir systemPipeR.buildbin-libdir && /Users/biocbuild/BBS/utils/build-universal.sh systemPipeR_2.14.2.tar.gz /Library/Frameworks/R.framework/Resources/bin/R systemPipeR.buildbin-libdir StartedAt: 2025-09-26 16:13:47 -0400 (Fri, 26 Sep 2025) EndedAt: 2025-09-26 16:15:40 -0400 (Fri, 26 Sep 2025) EllapsedTime: 113.0 seconds RetCode: 0 Status: OK PackageFile: systemPipeR_2.14.2.tgz PackageFileSize: 6.287 MiB