Package: systemPipeR Version: 2.14.2 Command: /home/biocbuild/R/R/bin/R CMD INSTALL systemPipeR StartedAt: 2025-09-25 21:08:47 -0000 (Thu, 25 Sep 2025) EndedAt: 2025-09-25 21:09:51 -0000 (Thu, 25 Sep 2025) EllapsedTime: 64.5 seconds RetCode: 0 Status: OK