Package: systemPipeR Version: 2.14.2 Command: /Library/Frameworks/R.framework/Resources/bin/R CMD INSTALL systemPipeR StartedAt: 2025-09-25 17:57:58 -0400 (Thu, 25 Sep 2025) EndedAt: 2025-09-25 17:58:53 -0400 (Thu, 25 Sep 2025) EllapsedTime: 55.1 seconds RetCode: 0 Status: OK