Package: systemPipeR Version: 2.14.2 Command: /Library/Frameworks/R.framework/Resources/bin/R CMD build --keep-empty-dirs --no-resave-data systemPipeR StartedAt: 2025-09-26 10:34:28 -0400 (Fri, 26 Sep 2025) EndedAt: 2025-09-26 10:36:20 -0400 (Fri, 26 Sep 2025) EllapsedTime: 111.3 seconds RetCode: 0 Status: OK PackageFile: systemPipeR_2.14.2.tar.gz PackageFileSize: 6.498 MiB