Package: syntenet Version: 1.12.0 Command: /home/biocbuild/R/R/bin/R CMD INSTALL syntenet StartedAt: 2025-11-13 21:23:00 -0000 (Thu, 13 Nov 2025) EndedAt: 2025-11-13 21:24:01 -0000 (Thu, 13 Nov 2025) EllapsedTime: 61.8 seconds RetCode: 0 Status: OK