Package: syntenet Version: 1.12.0 Command: /home/biocbuild/R/R/bin/R CMD build --keep-empty-dirs --no-resave-data syntenet StartedAt: 2025-11-14 05:53:18 -0000 (Fri, 14 Nov 2025) EndedAt: 2025-11-14 05:55:10 -0000 (Fri, 14 Nov 2025) EllapsedTime: 112.1 seconds RetCode: 0 Status: OK PackageFile: syntenet_1.12.0.tar.gz PackageFileSize: 2.697 MiB