Package: syntenet Version: 1.12.0 Command: /home/biocbuild/bbs-3.22-bioc/R/bin/R CMD check --install=check:syntenet.install-out.txt --library=/home/biocbuild/bbs-3.22-bioc/R/site-library --timings syntenet_1.12.0.tar.gz StartedAt: 2025-11-12 04:51:30 -0500 (Wed, 12 Nov 2025) EndedAt: 2025-11-12 04:54:52 -0500 (Wed, 12 Nov 2025) EllapsedTime: 202.3 seconds RetCode: 0 Status: OK CheckDir: syntenet.Rcheck Warnings: 0