Package: syntenet Version: 1.10.2 Command: /home/biocbuild/bbs-3.21-bioc/R/bin/R CMD INSTALL syntenet StartedAt: 2025-10-01 15:18:49 -0400 (Wed, 01 Oct 2025) EndedAt: 2025-10-01 15:19:30 -0400 (Wed, 01 Oct 2025) EllapsedTime: 41.4 seconds RetCode: 0 Status: OK