Package: syntenet Version: 1.10.2 Command: /home/biocbuild/bbs-3.21-bioc/R/bin/R CMD build --keep-empty-dirs --no-resave-data syntenet StartedAt: 2025-10-01 20:18:32 -0400 (Wed, 01 Oct 2025) EndedAt: 2025-10-01 20:20:11 -0400 (Wed, 01 Oct 2025) EllapsedTime: 99.1 seconds RetCode: 0 Status: OK PackageFile: syntenet_1.10.2.tar.gz PackageFileSize: 4.537 MiB