Package: syntenet Version: 1.10.2 Command: rm -rf syntenet.buildbin-libdir && mkdir syntenet.buildbin-libdir && /Users/biocbuild/BBS/utils/build-universal.sh syntenet_1.10.2.tar.gz /Library/Frameworks/R.framework/Resources/bin/R syntenet.buildbin-libdir StartedAt: 2025-10-14 14:56:02 -0400 (Tue, 14 Oct 2025) EndedAt: 2025-10-14 14:57:41 -0400 (Tue, 14 Oct 2025) EllapsedTime: 99.6 seconds RetCode: 0 Status: OK PackageFile: syntenet_1.10.2.tgz PackageFileSize: 5.015 MiB