Package: syntenet Version: 1.10.2 Command: /Library/Frameworks/R.framework/Resources/bin/R CMD INSTALL syntenet StartedAt: 2025-09-29 16:08:25 -0400 (Mon, 29 Sep 2025) EndedAt: 2025-09-29 16:09:07 -0400 (Mon, 29 Sep 2025) EllapsedTime: 41.9 seconds RetCode: 0 Status: OK