Package: syntenet Version: 1.10.2 Command: /Library/Frameworks/R.framework/Resources/bin/R CMD build --keep-empty-dirs --no-resave-data syntenet StartedAt: 2025-10-03 10:41:48 -0400 (Fri, 03 Oct 2025) EndedAt: 2025-10-03 10:44:02 -0400 (Fri, 03 Oct 2025) EllapsedTime: 133.6 seconds RetCode: 0 Status: OK PackageFile: syntenet_1.10.2.tar.gz PackageFileSize: 4.712 MiB