Package: syntenet Version: 1.10.2 Command: rm -rf syntenet.buildbin-libdir && mkdir syntenet.buildbin-libdir && /Users/biocbuild/BBS/utils/build-universal.sh syntenet_1.10.2.tar.gz /Library/Frameworks/R.framework/Resources/bin/R syntenet.buildbin-libdir StartedAt: 2025-10-04 20:15:45 -0400 (Sat, 04 Oct 2025) EndedAt: 2025-10-04 20:16:29 -0400 (Sat, 04 Oct 2025) EllapsedTime: 44.5 seconds RetCode: 0 Status: OK PackageFile: syntenet_1.10.2.tgz PackageFileSize: 4.998 MiB