Package: synlet Version: 2.10.0 Command: /home/biocbuild/R/R/bin/R CMD INSTALL synlet StartedAt: 2025-11-17 21:14:33 -0000 (Mon, 17 Nov 2025) EndedAt: 2025-11-17 21:15:13 -0000 (Mon, 17 Nov 2025) EllapsedTime: 40.7 seconds RetCode: 0 Status: OK