Package: synlet Version: 2.10.0 Command: /home/biocbuild/R/R/bin/R CMD build --keep-empty-dirs --no-resave-data synlet StartedAt: 2025-11-18 05:39:14 -0000 (Tue, 18 Nov 2025) EndedAt: 2025-11-18 05:40:00 -0000 (Tue, 18 Nov 2025) EllapsedTime: 46.0 seconds RetCode: 0 Status: OK PackageFile: synlet_2.10.0.tar.gz PackageFileSize: 848.6 KiB