Package: synlet Version: 2.10.0 Command: /home/biocbuild/bbs-3.22-bioc/R/bin/R CMD check --install=check:synlet.install-out.txt --library=/home/biocbuild/bbs-3.22-bioc/R/site-library --timings synlet_2.10.0.tar.gz StartedAt: 2025-11-12 04:51:04 -0500 (Wed, 12 Nov 2025) EndedAt: 2025-11-12 04:52:05 -0500 (Wed, 12 Nov 2025) EllapsedTime: 61.0 seconds RetCode: 0 Status: OK CheckDir: synlet.Rcheck Warnings: 0