Package: synlet Version: 2.8.0 Command: /home/biocbuild/bbs-3.21-bioc/R/bin/R CMD INSTALL synlet StartedAt: 2025-10-15 15:09:28 -0400 (Wed, 15 Oct 2025) EndedAt: 2025-10-15 15:09:43 -0400 (Wed, 15 Oct 2025) EllapsedTime: 15.8 seconds RetCode: 0 Status: OK