Package: synlet Version: 2.8.0 Command: /home/biocbuild/bbs-3.21-bioc/R/bin/R CMD build --keep-empty-dirs --no-resave-data synlet StartedAt: 2025-10-15 20:14:03 -0400 (Wed, 15 Oct 2025) EndedAt: 2025-10-15 20:14:30 -0400 (Wed, 15 Oct 2025) EllapsedTime: 27.0 seconds RetCode: 0 Status: OK PackageFile: synlet_2.8.0.tar.gz PackageFileSize: 1.468 MiB