Package: synlet Version: 2.8.0 Command: /home/biocbuild/R/R/bin/R CMD build --keep-empty-dirs --no-resave-data synlet StartedAt: 2025-09-26 06:34:20 -0000 (Fri, 26 Sep 2025) EndedAt: 2025-09-26 06:34:57 -0000 (Fri, 26 Sep 2025) EllapsedTime: 37.0 seconds RetCode: 0 Status: OK PackageFile: synlet_2.8.0.tar.gz PackageFileSize: 1.334 MiB