Package: synlet Version: 2.8.0 Command: /Library/Frameworks/R.framework/Resources/bin/R CMD build --keep-empty-dirs --no-resave-data synlet StartedAt: 2025-10-14 10:48:16 -0400 (Tue, 14 Oct 2025) EndedAt: 2025-10-14 10:49:08 -0400 (Tue, 14 Oct 2025) EllapsedTime: 52.0 seconds RetCode: 0 Status: OK PackageFile: synlet_2.8.0.tar.gz PackageFileSize: 1.408 MiB