Package: synlet Version: 2.8.0 Command: rm -rf synlet.buildbin-libdir && mkdir synlet.buildbin-libdir && /Users/biocbuild/BBS/utils/build-universal.sh synlet_2.8.0.tar.gz /Library/Frameworks/R.framework/Resources/bin/R synlet.buildbin-libdir StartedAt: 2025-10-15 20:46:49 -0400 (Wed, 15 Oct 2025) EndedAt: 2025-10-15 20:46:57 -0400 (Wed, 15 Oct 2025) EllapsedTime: 7.9 seconds RetCode: 0 Status: OK PackageFile: synlet_2.8.0.tgz PackageFileSize: 1.457 MiB