Package: synlet Version: 2.8.0 Maintainer: Chunxuan Shao MaintainerEmail: chunxuan at outlook.com git_url: https://git.bioconductor.org/packages/synlet git_branch: RELEASE_3_21 git_last_commit: b9d0142 git_last_commit_date: 2025-04-15 10:52:42 -0400 (Tue, 15 Apr 2025)