Package: synapter Version: 2.32.0 Command: /home/biocbuild/R/R/bin/R CMD build --keep-empty-dirs --no-resave-data synapter StartedAt: 2025-10-14 05:15:30 -0000 (Tue, 14 Oct 2025) EndedAt: 2025-10-14 05:19:18 -0000 (Tue, 14 Oct 2025) EllapsedTime: 228.1 seconds RetCode: 1 Status: ERROR PackageFile: None PackageFileSize: NA