Package: synapter Version: 2.32.0 Command: /Library/Frameworks/R.framework/Resources/bin/R CMD INSTALL synapter StartedAt: 2025-04-21 15:19:56 -0400 (Mon, 21 Apr 2025) EndedAt: 2025-04-21 15:20:21 -0400 (Mon, 21 Apr 2025) EllapsedTime: 24.8 seconds RetCode: 0 Status: OK