Package: synapsis Version: 1.14.0 Command: /home/biocbuild/R/R/bin/R CMD INSTALL synapsis StartedAt: 2025-10-13 20:23:53 -0000 (Mon, 13 Oct 2025) EndedAt: 2025-10-13 20:23:59 -0000 (Mon, 13 Oct 2025) EllapsedTime: 5.7 seconds RetCode: 0 Status: OK