Package: synapsis Version: 1.14.0 Command: /home/biocbuild/R/R/bin/R CMD build --keep-empty-dirs --no-resave-data synapsis StartedAt: 2025-10-14 05:15:29 -0000 (Tue, 14 Oct 2025) EndedAt: 2025-10-14 05:16:12 -0000 (Tue, 14 Oct 2025) EllapsedTime: 43.0 seconds RetCode: 0 Status: OK PackageFile: synapsis_1.14.0.tar.gz PackageFileSize: 3.273 MiB