Package: synapsis Version: 1.16.0 Command: /Library/Frameworks/R.framework/Resources/bin/R CMD build --keep-empty-dirs --no-resave-data synapsis StartedAt: 2025-10-31 18:00:08 -0400 (Fri, 31 Oct 2025) EndedAt: 2025-10-31 18:00:21 -0400 (Fri, 31 Oct 2025) EllapsedTime: 13.1 seconds RetCode: 0 Status: OK PackageFile: synapsis_1.16.0.tar.gz PackageFileSize: 3.547 MiB