Package: synapsis Version: 1.16.0 Command: rm -rf synapsis.buildbin-libdir && mkdir synapsis.buildbin-libdir && /Users/biocbuild/BBS/utils/build-universal.sh synapsis_1.16.0.tar.gz /Library/Frameworks/R.framework/Resources/bin/R synapsis.buildbin-libdir StartedAt: 2025-11-02 23:23:56 -0500 (Sun, 02 Nov 2025) EndedAt: 2025-11-02 23:23:59 -0500 (Sun, 02 Nov 2025) EllapsedTime: 3.1 seconds RetCode: 0 Status: OK PackageFile: synapsis_1.16.0.tgz PackageFileSize: 3.646 MiB