Package: switchde Version: 1.36.0 Command: /home/biocbuild/bbs-3.22-bioc/R/bin/R CMD check --install=check:switchde.install-out.txt --library=/home/biocbuild/bbs-3.22-bioc/R/site-library --timings switchde_1.36.0.tar.gz StartedAt: 2025-11-15 05:03:18 -0500 (Sat, 15 Nov 2025) EndedAt: 2025-11-15 05:06:27 -0500 (Sat, 15 Nov 2025) EllapsedTime: 189.2 seconds RetCode: 0 Status: OK CheckDir: switchde.Rcheck Warnings: 0