Package: switchde Version: 1.36.0 Command: /Library/Frameworks/R.framework/Resources/bin/R CMD INSTALL switchde StartedAt: 2025-11-03 15:35:09 -0500 (Mon, 03 Nov 2025) EndedAt: 2025-11-03 15:35:43 -0500 (Mon, 03 Nov 2025) EllapsedTime: 34.7 seconds RetCode: 0 Status: OK