Package: switchde Version: 1.36.0 Command: /Library/Frameworks/R.framework/Resources/bin/R CMD build --keep-empty-dirs --no-resave-data switchde StartedAt: 2025-11-03 19:02:11 -0500 (Mon, 03 Nov 2025) EndedAt: 2025-11-03 19:02:59 -0500 (Mon, 03 Nov 2025) EllapsedTime: 48.0 seconds RetCode: 0 Status: OK PackageFile: switchde_1.36.0.tar.gz PackageFileSize: 1.031 MiB