Package: switchBox Version: 1.46.0 Command: /home/biocbuild/R/R/bin/R CMD INSTALL switchBox StartedAt: 2025-11-10 21:05:04 -0000 (Mon, 10 Nov 2025) EndedAt: 2025-11-10 21:05:30 -0000 (Mon, 10 Nov 2025) EllapsedTime: 25.6 seconds RetCode: 0 Status: OK