Package: switchBox Version: 1.46.0 Command: /home/biocbuild/bbs-3.22-bioc/R/bin/R CMD INSTALL switchBox StartedAt: 2025-11-11 15:07:56 -0500 (Tue, 11 Nov 2025) EndedAt: 2025-11-11 15:08:09 -0500 (Tue, 11 Nov 2025) EllapsedTime: 12.6 seconds RetCode: 0 Status: OK