Package: switchBox Version: 1.46.0 Command: /home/biocbuild/bbs-3.22-bioc/R/bin/R CMD check --install=check:switchBox.install-out.txt --library=/home/biocbuild/bbs-3.22-bioc/R/site-library --timings switchBox_1.46.0.tar.gz StartedAt: 2025-11-12 04:50:31 -0500 (Wed, 12 Nov 2025) EndedAt: 2025-11-12 04:51:04 -0500 (Wed, 12 Nov 2025) EllapsedTime: 33.0 seconds RetCode: 0 Status: WARNINGS CheckDir: switchBox.Rcheck Warnings: 3