Package: switchBox Version: 1.46.0 Command: /home/biocbuild/bbs-3.22-bioc/R/bin/R CMD build --keep-empty-dirs --no-resave-data --md5 switchBox StartedAt: 2025-11-11 20:34:51 -0500 (Tue, 11 Nov 2025) EndedAt: 2025-11-11 20:35:01 -0500 (Tue, 11 Nov 2025) EllapsedTime: 10.0 seconds RetCode: 0 Status: OK PackageFile: switchBox_1.46.0.tar.gz PackageFileSize: 473.9 KiB