Package: switchBox Version: 1.44.0 Command: /home/biocbuild/R/R/bin/R CMD build --keep-empty-dirs --no-resave-data switchBox StartedAt: 2025-09-26 06:33:27 -0000 (Fri, 26 Sep 2025) EndedAt: 2025-09-26 06:33:39 -0000 (Fri, 26 Sep 2025) EllapsedTime: 12.0 seconds RetCode: 0 Status: OK PackageFile: switchBox_1.44.0.tar.gz PackageFileSize: 463.3 KiB