Package: swfdr Version: 1.36.0 Command: /home/biocbuild/R/R/bin/R CMD INSTALL swfdr StartedAt: 2025-11-10 21:05:24 -0000 (Mon, 10 Nov 2025) EndedAt: 2025-11-10 21:06:03 -0000 (Mon, 10 Nov 2025) EllapsedTime: 39.3 seconds RetCode: 0 Status: OK