Package: swfdr Version: 1.36.0 Command: /home/biocbuild/R/R/bin/R CMD check --install=check:swfdr.install-out.txt --library=/home/biocbuild/R/R/site-library --no-vignettes --timings swfdr_1.36.0.tar.gz StartedAt: 2025-11-14 15:34:52 -0000 (Fri, 14 Nov 2025) EndedAt: 2025-11-14 15:35:49 -0000 (Fri, 14 Nov 2025) EllapsedTime: 57.2 seconds RetCode: 0 Status: WARNINGS CheckDir: swfdr.Rcheck Warnings: 1