Package: swfdr Version: 1.36.0 Command: /home/biocbuild/R/R/bin/R CMD build --keep-empty-dirs --no-resave-data swfdr StartedAt: 2025-11-11 05:44:02 -0000 (Tue, 11 Nov 2025) EndedAt: 2025-11-11 05:45:09 -0000 (Tue, 11 Nov 2025) EllapsedTime: 67.0 seconds RetCode: 0 Status: OK PackageFile: swfdr_1.36.0.tar.gz PackageFileSize: 1.187 MiB