Package: swfdr Version: 1.34.0 Command: /home/biocbuild/bbs-3.21-bioc/R/bin/R CMD check --install=check:swfdr.install-out.txt --library=/home/biocbuild/bbs-3.21-bioc/R/site-library --timings swfdr_1.34.0.tar.gz StartedAt: 2025-10-16 04:14:50 -0400 (Thu, 16 Oct 2025) EndedAt: 2025-10-16 04:16:02 -0400 (Thu, 16 Oct 2025) EllapsedTime: 72.1 seconds RetCode: 0 Status: WARNINGS CheckDir: swfdr.Rcheck Warnings: 1