Package: swfdr Version: 1.34.0 Command: /home/biocbuild/R/R/bin/R CMD check --install=check:swfdr.install-out.txt --library=/home/biocbuild/R/R/site-library --no-vignettes --timings swfdr_1.34.0.tar.gz StartedAt: 2025-10-03 15:10:22 -0000 (Fri, 03 Oct 2025) EndedAt: 2025-10-03 15:11:09 -0000 (Fri, 03 Oct 2025) EllapsedTime: 47.1 seconds RetCode: 0 Status: WARNINGS CheckDir: swfdr.Rcheck Warnings: 1