Package: svaRetro Version: 1.16.0 Command: /home/biocbuild/bbs-3.22-bioc/R/bin/R CMD INSTALL svaRetro StartedAt: 2025-11-06 15:50:55 -0500 (Thu, 06 Nov 2025) EndedAt: 2025-11-06 15:51:40 -0500 (Thu, 06 Nov 2025) EllapsedTime: 44.5 seconds RetCode: 0 Status: OK