Package: svaRetro Version: 1.16.0 Command: /home/biocbuild/bbs-3.22-bioc/R/bin/R CMD build --keep-empty-dirs --no-resave-data --md5 svaRetro StartedAt: 2025-11-06 20:25:12 -0500 (Thu, 06 Nov 2025) EndedAt: 2025-11-06 20:26:17 -0500 (Thu, 06 Nov 2025) EllapsedTime: 65.0 seconds RetCode: 1 Status: ERROR PackageFile: None PackageFileSize: NA