Package: svaNUMT Version: 1.16.0 Command: /home/biocbuild/bbs-3.22-bioc/R/bin/R CMD build --keep-empty-dirs --no-resave-data --md5 svaNUMT StartedAt: 2025-11-11 20:33:53 -0500 (Tue, 11 Nov 2025) EndedAt: 2025-11-11 20:35:04 -0500 (Tue, 11 Nov 2025) EllapsedTime: 71.1 seconds RetCode: 0 Status: OK PackageFile: svaNUMT_1.16.0.tar.gz PackageFileSize: 815.1 KiB