Package: svaNUMT Version: 1.14.0 Command: /home/biocbuild/R/R/bin/R CMD INSTALL svaNUMT StartedAt: 2025-10-13 21:08:14 -0000 (Mon, 13 Oct 2025) EndedAt: 2025-10-13 21:09:10 -0000 (Mon, 13 Oct 2025) EllapsedTime: 55.4 seconds RetCode: 0 Status: OK