Package: svaNUMT Version: 1.16.0 Command: /Library/Frameworks/R.framework/Resources/bin/R CMD INSTALL svaNUMT StartedAt: 2025-10-31 15:30:44 -0400 (Fri, 31 Oct 2025) EndedAt: 2025-10-31 15:31:01 -0400 (Fri, 31 Oct 2025) EllapsedTime: 16.9 seconds RetCode: 0 Status: OK