Package: svaNUMT Version: 1.16.0 Command: rm -rf svaNUMT.buildbin-libdir && mkdir svaNUMT.buildbin-libdir && /Users/biocbuild/BBS/utils/build-universal.sh svaNUMT_1.16.0.tar.gz /Library/Frameworks/R.framework/Resources/bin/R svaNUMT.buildbin-libdir StartedAt: 2025-10-31 23:25:52 -0400 (Fri, 31 Oct 2025) EndedAt: 2025-10-31 23:26:10 -0400 (Fri, 31 Oct 2025) EllapsedTime: 17.4 seconds RetCode: 0 Status: OK PackageFile: svaNUMT_1.16.0.tgz PackageFileSize: 755.1 KiB