Package: sva Version: 3.58.0 Command: /home/biocbuild/bbs-3.22-bioc/R/bin/R CMD INSTALL sva StartedAt: 2025-11-20 16:19:48 -0500 (Thu, 20 Nov 2025) EndedAt: 2025-11-20 16:20:08 -0500 (Thu, 20 Nov 2025) EllapsedTime: 20.2 seconds RetCode: 0 Status: OK